Workbook

Sheet A
A1: Kat | D1: Nagłówek | E1: Budżet | F1: =Budżet!C14 -> 708202.54
A2: A | D2: Koszty personelu | E2: Wydano | F2: =SUM(F6:F532) -> 204161.77
A4: L.P | B4: Pozycja w budżecie | C4: Data wydatku | D4: Opis/typ wydatku (pozycja w budżecie, miesiąc, imię i nazwisko) | E4: Rodzaj oraz numer dokumentu źródłowego | F4: kwota (PLN)
A5: Kolumna1 | B5: Kolumna2 | C5: Kolumna3 | D5: Kolumna4 | E5: Kolumna5 | F5: Kolumna6
A6: 1 | B6: A1 | C6: 27.07.2023 | D6: Wynagrodzenie za lipiec 2023r. | E6: Lista płac 747/2023-07 netto do wypłaty | F6: 3029.54 | G6: =F6+F9+F12+F15+F19+F24+F28+F32+F36+F41+F45+F51+F57+F61+F64+F67+F70+F74+F79+F83+F87+F91+F96+F100+F106+F112+F115+F118+F121+F125+F130+F134+F138+F142+F147+F151+F155+F162+F165+F168+F171+F175+F179 -> 67842.24
A7: 2 | B7: A1 | C7: 31.07.2023 | D7: Wynagrodzenie za lipiec 2023r. | E7: Lista płac 747/2023-07 skł. ZUS | F7: 1646.82 | G7: =F7+F10+F13+F16+F20+F25+F29+F33+F37+F42+F46+F52+F58+F62+F65+F68+F71+F75+F80+F84+F88+F92+F97+F101+F107+F113+F116+F119+F122+F126+F131+F135+F139+F143+F148+F152+F156+F163+F166+F169+F172+F176+F180 -> 34326.98
A8: 3 | B8: A1 | C8: 31.07.2023 | D8: Wynagrodzenie za lipiec 2023r. | E8: Lista płac 747/2023-07 podatek dochodowy | F8: 80 | G8: =F8+F11+F14+F17+F21+F26+F30+F34+F38+F43+F47+F53+F59+F63+F66+F69+F72+F76+F81+F85+F89+F93+F98+F102+F108+F114+F117+F120+F123+F127+F132+F136+F140+F144+F149+F153+F157+F164+F167+F170+F173+F177+F181 -> 3102.81
A9: 4 | B9: A1 | C9: 27.07.2023 | D9: Wynagrodzenie za lipiec 2023r. | E9: Lista płac 747/2023-07 netto do wypłaty | F9: 3019.03
A10: 5 | B10: A1 | C10: 31.07.2023 | D10: Wynagrodzenie za lipiec 2023r. | E10: Lista płac 747/2023-07 skł. ZUS | F10: 1637.02
A11: 6 | B11: A1 | C11: 31.07.2023 | D11: Wynagrodzenie za lipiec 2023r. | E11: Lista płac 747/2023-07 podatek dochodowy | F11: 72
A12: 7 | B12: A1 | C12: 27.07.2023 | D12: Wynagrodzenie za lipiec 2023r. | E12: Lista płac 747/2023-07 netto do wypłaty | F12: 2965.51
A13: 8 | B13: A1 | C13: 31.07.2023 | D13: Wynagrodzenie za lipiec 2023r. | E13: Lista płac 747/2023-07 skł. ZUS | F13: 1607.6
A14: 9 | B14: A1 | C14: 31.07.2023 | D14: Wynagrodzenie za lipiec 2023r. | E14: Lista płac 747/2023-07 podatek dochodowy | F14: 70
A15: 10 | B15: A1 | C15: 27.07.2023 | D15: Wynagrodzenie za lipiec 2023r. | E15: Lista płac 747/2023-07 netto do wypłaty | F15: 2949.34
A16: 11 | B16: A1 | C16: 31.07.2023 | D16: Wynagrodzenie za lipiec 2023r. | E16: Lista płac 747/2023-07 skł. ZUS | F16: 1646.82
A17: 12 | B17: A1 | C17: 31.07.2023 | D17: Wynagrodzenie za lipiec 2023r. | E17: Lista płac 747/2023-07 podatek dochodowy | F17: 81
A18: 13 | B18: A1 | C18: 31.07.2023 | D18: Wynagrodzenie za lipiec 2023r. | E18: Lista płac 747/2023-07 PPK | F18: 138.6 | G18: =F18+F23+F50+F60+F73+F77+F105+F124+F129+F154+F174+F178 -> 920.38
A19: 14 | B19: A1 | C19: 27.07.2023 | D19: Wynagrodzenie za lipiec 2023r. | E19: Lista płac 747/2023-07 netto do wypłaty | F19: 1291.24
A20: 15 | B20: A1 | C20: 31.07.2023 | D20: Wynagrodzenie za lipiec 2023r. | E20: Lista płac 747/2023-07 skł. ZUS | F20: -2397.89
A21: 16 | B21: A1 | C21: 31.07.2023 | D21: Wynagrodzenie za lipiec 2023r. | E21: Lista płac 747/2023-07 podatek dochodowy | F21: 1
A22: 17 | B22: A1 | C22: 27.07.2023 | D22: Wynagrodzenie za lipiec 2023r. | E22: Lista płac 747/2023-07 PZU | F22: 69.9 | G22: =F22+F31+F35+F39+F40+F49+F55+F56+F78+F86+F90+F94+F95+F104+F109+F110+F128+F137+F141+F145+F146+F158+F159+F160 -> 376
A23: 18 | B23: A1 | C23: 31.07.2023 | D23: Wynagrodzenie za lipiec 2023r. | E23: Lista płac 747/2023-07 PPK | F23: 16.17
A24: 19 | B24: A1 | C24: 27.07.2023 | D24: Wynagrodzenie za lipiec 2023r. | E24: Lista płac 747/2023-07 netto do wypłaty | F24: 2931.51
A25: 20 | B25: A1 | C25: 31.07.2023 | D25: Wynagrodzenie za lipiec 2023r. | E25: Lista płac 747/2023-07 skł. ZUS | F25: 1607.6
A26: 21 | B26: A1 | C26: 31.07.2023 | D26: Wynagrodzenie za lipiec 2023r. | E26: Lista płac 747/2023-07 podatek dochodowy | F26: 64
A27: 22 | B27: A1 | C27: 27.07.2023 | D27: Wynagrodzenie za lipiec 2023r. | E27: Lista płac 747/2023-07 ZFŚS | F27: 40 | G27: =F27+F44+F48+F82+F99+F103+F133+F150 -> 184.49
A28: 23 | B28: A2 | C28: 27.07.2023 | D28: Dod.zad.-strona intern. za lipiec 2023r. | E28: Lista płac 713/2023-07 netto do wypłaty | F28: 761.91
A29: 24 | B29: A2 | C29: 31.07.2023 | D29: Dod.zad.-strona intern. za lipiec 2023r. | E29: Lista płac 713/2023-07 skł. ZUS | F29: 420.23
A30: 25 | B30: A2 | C30: 31.07.2023 | D30: Dod.zad.-strona intern. za lipiec 2023r. | E30: Lista płac 713/2023-07 podatek dochodowy | F30: 64.97 | L30: `
A31: 26 | B31: A2 | C31: 27.07.2023 | D31: Dod.zad.-strona intern. za lipiec 2023r. | E31: Lista płac 713/2023-07 PZU | F31: 8.09
A32: 27 | B32: A2 | C32: 27.07.2023 | D32: Dod.zad.-strona intern. za lipiec 2023r. | E32: Lista płac 713/2023-07 netto do wypłaty | F32: 351.5
A33: 28 | B33: A2 | C33: 31.07.2023 | D33: Dod.zad.-strona intern. za lipiec 2023r. | E33: Lista płac 713/2023-07 skł. ZUS | F33: 207.93
A34: 29 | B34: A2 | C34: 31.07.2023 | D34: Dod.zad.-strona intern. za lipiec 2023r. | E34: Lista płac 713/2023-07 podatek dochodowy | F34: 38.83
A35: 30 | B35: A2 | C35: 27.07.2023 | D35: Dod.zad.-strona intern. za lipiec 2023r. | E35: Lista płac 713/2023-07 PZU | F35: 2.29
A36: 31 | B36: A2 | C36: 27.07.2023 | D36: Dod.zad.-strona intern. za lipiec 2023r. | E36: Lista płac 713/2023-07 netto do wypłaty | F36: 785.04
A37: 32 | B37: A2 | C37: 31.07.2023 | D37: Dod.zad.-strona intern. za lipiec 2023r. | E37: Lista płac 713/2023-07 skł. ZUS | F37: 457.45
A38: 33 | B38: A2 | C38: 31.07.2023 | D38: Dod.zad.-strona intern. za lipiec 2023r. | E38: Lista płac 713/2023-07 podatek dochodowy | F38: 69.69
A39: 34 | B39: A2 | C39: 27.07.2023 | D39: Dod.zad.-strona intern. za lipiec 2023r. | E39: Lista płac 713/2023-07 PZU | F39: 7.71
A40: 35 | B40: A2 | C40: 27.07.2023 | D40: Dod.zad.-strona intern. za lipiec 2023r. | E40: Lista płac 713/2023-07 PZU | F40: 1.32 | G40: skł.wsp.rodziny
A41: 36 | B41: A2 | C41: 27.07.2023 | D41: Dod.zad.-strona intern. za lipiec 2023r. | E41: Lista płac 713/2023-07 netto do wypłaty | F41: 642.41
...

Sheet B
A1: Kat | D1: Nagłówek | E1: Budżet | F1: =Budżet!C15 -> 0
A2: B | D2: Koszty transportu, podróży i utrzymania | E2: Wydano | F2: =SUM(F6:F468) -> 0
A4: L.P | B4: Pozycja w budżecie | C4: Data wydatku | D4: Opis/typ wydatku (pozycja w budżecie, miejsce wyjazdu) | E4: Rodzaj oraz numer dokumentu źródłowego | F4: kwota (PLN)
A6: 1
A7: 2
A8: 3
A9: 4
A10: 5
A11: 6
A12: 7
A13: 8
A14: 9
A15: 10
A16: 11
A17: 12
... A505: 500

Sheet C
A1: Kat | D1: Nagłówek | E1: Budżet | F1: =Budżet!C16 -> 186406.47
A2: C | D2: Sprzęt, oprogramowanie i wyposażenie | E2: Wydano | F2: =SUM(F6:F505) -> 0
A4: L.P | B4: Pozycja w budżecie | C4: Data wydatku | D4: Opis/typ wydatku (pozycja w budżecie) | E4: Rodzaj oraz numer dokumentu źródłowego | F4: kwota (PLN)
A6: 1
A7: 2
A8: 3
A9: 4
A10: 5
A11: 6
A12: 7
A13: 8
A14: 9
A15: 10
A16: 11
A17: 12
... A505: 500

Sheet D
A1: Kat | D1: Nagłówek | E1: Budżet | F1: =Budżet!C17 -> 165841.92
A2: D | D2: Nieruchomości (zakup, budowa, remont , najem, usługi ogólne) | E2: Wydano | F2: =SUM(F6:F505) -> 11019.73
A4: L.P | B4: Pozycja w budżecie | C4: Data wydatku | D4: Opis/typ wydatku (pozycja w budżecie, miesiąc) | E4: Rodzaj oraz numer dokumentu źródłowego | F4: kwota (PLN)
A6: 1 | B6: D3 | C6: 45112 | D6: Koszty bieżące funkcjonowania punktu informacyjno-doradczego w Ostródzie, czerwiec 2023, energia elektryczna przesył | E6: F-ra nr 01/2306/00008357 | F6: 21.37
A7: 2 | B7: D3 | C7: 45113 | D7: Koszty bieżące funkcjonowania punktu informacyjno-doradczego w Ostródzie, lipiec 2023, energia cieplna | E7: F-ra nr E002716/23 | F7: 92.6
A8: 3 | B8: D3 | C8: 45124 | D8: Koszty bieżące funkcjonowania punktu informacyjno-doradczego w Ostródzie, lipiec 2023, energia elektryczna | E8: F-ra nr 6262034000/FED/00035/2023 | F8: 28.49
A9: 4 | B9: D2 | C9: 45118 | D9: Koszty najmu pomieszczenia przeznaczonego na punkt informacyjno doradczy w Olsztynie, lipiec 2023 | E9: F-ra 137/2023 | F9: 489.23
A10: 5 | B10: D2 | C10: 45118 | D10: Koszty najmu pomieszczenia przeznaczonego na punkt informacyjno doradczy w Olsztynie, lipiec 2023 | E10: F-ra 138/2023 | F10: 334.88
A11: 6 | B11: D3 | C11: 45127 | D11: Koszty bieżące funkcjonowania punktu informacyjno-doradczego w Ostródzie, czerwiec-lipiec 2023, woda i ścieki | E11: F-ra nr RS/01230/07/2023 | F11: 27.93
A12: 7 | B12: D3 | C12: 45148 | D12: Koszty bieżące funkcjonowania punktu informacyjno-doradczego w Ostródzie, lipiec 2023, energia cieplna | E12: F-ra nr E003204/23 | F12: 92.6
A13: 8 | B13: D3 | C13: 45148 | D13: Koszty bieżące funkcjonowania punktu informacyjno-doradczego w Ostródzie, lipiec 2023, energia elektryczna | E13: F-ra nr 6262034000/FED/00036/2023 | F13: 30.87
A14: 9 | B14: D3 | C14: 45145 | D14: Koszty bieżące funkcjonowania punktu informacyjno-doradczego w Ostródzie, lipiec 2023, energia elektryczna przesył | E14: F-ra nr 01/2307/0008658 | F14: 23.15
A15: 10 | B15: D2 | C15: 45167 | D15: Koszty najmu pomieszczenia przeznaczonego na punkt informacyjno doradczy w Olsztynie, sierpień 2023 | E15: F-ra nr 1/08/2023/FZ | F15: 805
A16: 11 | B16: D2 | C16: 45176 | D16: Koszty najmu pomieszczenia przeznaczonego na punkt informacyjno doradczy w Olsztynie, wrzesień 2023 | E16: F-ra nr 1/09/2023 | F16: 805
A17: 12 | B17: D3 | C17: 45181 | D17: Koszty bieżące funkcjonowania punktu informacyjno-doradczego w Ostródzie, sierpień 2023, energia cieplna | E17: F-ra nr E003691/23 | F17: 92.6
... A22: 17 | B22: D3 | C22: 45181 | D22: Koszty bieżące funkcjonowania punktu informacyjno-doradczego w Ostródzie, lipiec 2023, energia elektryczna | E22: F-ra nr 6262034000/FED/00036/2023 | F22: 30.87
A23: 18 | B23: D3 | C23: 44935 | D23: Korekta do wydatku z kat. D3 Lp. 1 z okresu 1.01.2023-31.03.2023 | F23: 0.48
A24: 19 | B24: D3 | C24: 44939 | D24: Korekta do wydatku z kat. D3 Lp. 2 z okresu 1.01.2023-31.03.2023 | F24: -1.12
A25: 20 | B25: D2 | C25: 44930 | D25: Korekta do wydatku z kat. D2 Lp. 4 z okresu 1.01.2023-31.03.2023 | F25: 0.46
A26: 21 | B26: D3 | C26: 44960 | D26: Korekta do wydatku z kat. D3 Lp. 6 z okresu 1.01.2023-31.03.2023 | F26: 67.07
A27: 22 | B27: D3 | C27: 44964 | D27: Korekta do wydatku z kat. D3 Lp. 7 z okresu 1.01.2023-31.03.2023 | F27: -2.83
A28: 23 | B28: D3 | C28: 44970 | D28: Korekta do wydatku z kat. D3 Lp. 8 z okresu 1.01.2023-31.03.2023 | F28: -2.91
A29: 24 | B29: D2 | C29: 44959 | D29: Korekta do wydatku z kat. D2 Lp. 10 z okresu 1.01.2023-31.03.2023 | F29: 0.39
A30: 25 | B30: D3 | C30: 44993 | D30: Korekta do wydatku z kat. D3 Lp. 12 z okresu 1.01.2023-31.03.2023 | F30: 3.28
A31: 26 | B31: D2 | C31: 44987 | D31: Korekta do wydatku z kat. D2 Lp. 14 z okresu 1.01.2023-31.03.2023 | F31: 0.39
A32: 27 | B32: D3 | C32: 44992 | D32: Korekta do wydatku z kat. D3 Lp. 16 z okresu 1.01.2023-31.03.2023 | F32: -2
A33: 28 | B33: D3 | C33: 44992 | D33: Korekta do wydatku z kat. D3 Lp. 17 z okresu 1.01.2023-31.03.2023 | F33: 2.92
A34: 29
A35: 30
A36: 31
A37: 32
A38: 33
A39: 34
A40: 35
A41: 36
A42: 37
A43: 38
A44: 39
A45: 40
... A505: 500

Sheet E
A1: Kat | D1: Nagłówek | E1: Budżet | F1: =Budżet!C18 -> 37451.21
A2: E | D2: Towary zużywające się i zaopatrzenie, inne wydatki drobne | E2: Wydano | F2: =SUM(F6:F505) -> 16885.15
A4: L.P | B4: Pozycja w budżecie | C4: Data wydatku | D4: Opis/typ wydatku (pozycja w budżecie) | E4: Rodzaj oraz numer dokumentu źródłowego | F4: kwota (PLN)
A6: 1 | B6: E2 | C6: 45117 | D6: abonament telefoniczny, lipiec 2023, punkt Olsztyn | E6: f-ra nr 506860000723 | F6: 46.89
A7: 2 | B7: E1 | C7: 45132 | D7: koszt materiałów biurowych, lipiec 2023 | E7: F-ra nr 15038/1/2023 | F7: 832.53
A8: 3 | B8: E1 | C8: 45134 | D8: koszt materiałów biurowych, lipiec 2023 | E8: F-ra nr 15261/1/2023 | F8: 842.5
A9: 4 | B9: E2 | C9: 45135 | D9: abonament telefoniczny, lipiec 2023, punkt Ostróda | E9: f-ra nr 23070416776579 | F9: 43.04
A10: 5 | B10: E2 | C10: 45148 | D10: abonament telefoniczny, sierpień 2023, punkt Olsztyn | E10: f-ra nr 507307600823 | F10: 48.27
A11: 6 | B11: E1 | C11: 45161 | D11: koszt materiałów biurowych, sierpień 2023 | E11: F-ra nr 17016/1/2023 | F11: 2316.34
A12: 7 | B12: E2 | C12: 45166 | D12: abonament telefoniczny, sierpień 2023, punkt Ostróda | E12: f-ra nr 23080463996301 | F12: 43.04
A13: 8 | B13: E5 | C13: 45148 | D13: woda - półkolonie w Lidzbarku Warmińskim, sierpień 2023 | E13: f-ra nr SPR/FVAT.S04 319/08/23 | F13: 2349.6
A14: 9 | B14: E7 | C14: 45159 | D14: zestaw edukacyjny - półkolonie w Lidzbarku Warmińskim, sierpień 2023 | E14: f-ra nr 1507/1/2023 | F14: 1528.4
A15: 10 | B15: E6 | C15: 45163 | D15: zestaw animacyjny - półkolonie w Lidzbarku Warmińskim, sierpień 2023 | E15: f-ra nr G/1173/2023 | F15: 1298
A16: 11 | B16: E6 | C16: 45168 | D16: zestaw animacyjny - półkolonie w Lidzbarku Warmińskim, sierpień 2023 | E16: F-ra nr 1547/1/2023 | F16: 3924.32
A17: 12 | B17: E5 | C17: 45167 | D17: woda - półkolonie w Lidzbarku Warmińskim, sierpień 2023 | E17: f-ra nr SPR/FVAT.S04 344/08/23 | F17: 17.6
... A23: 18 | B23: E2 | C23: 45197 | D23: abonament telefoniczny, wrzesień 2023, punkt Ostróda | E23: f-ra nr 23090516327372 | F23: 46.46
A24: 19
A25: 20
A26: 21
A27: 22
A28: 23
A29: 24
A30: 25
A31: 26
A32: 27
A33: 28
A34: 29
A35: 30
... A505: 500

Sheet F
A1: Kat | D1: Nagłówek | E1: Budżet | F1: =Budżet!C19 -> 150861
A2: F | D2: Usługi zewnętrzne | E2: Wydano | F2: =SUM(F6:F505) -> 124524.11
A4: L.P | B4: Pozycja w budżecie | C4: Data wydatku | D4: Opis/typ wydatku (pozycja w budżecie) | E4: Rodzaj oraz numer dokumentu źródłowego | F4: kwota (PLN)
A6: 1 | B6: F6 | C6: 45156 | D6: wynagrodzenie przewodnika - półkolonie w Lidzbarku Warmińskim, sierpień 2023 | E6: F-ra nr 21/08/2023 | F6: 350
A7: 2 | B7: F12 | C7: 45154 | D7: bilety wstępu - półkolonie w Lidzbarku Warmińskim, sierpień 2023 | E7: F-ra nr FB/543/08/2023, f-ra kor. Nr 2/KFK/2023 | F7: 2652
A8: 3 | B8: F12 | C8: 45154 | D8: bilety wstępu - półkolonie w Lidzbarku Warmińskim, sierpień 2023 | E8: F-ra nr 118/8/2023 | F8: 1862
A9: 4 | B9: F11 | C9: 45154 | D9: cattering - półkolonie w Lidzbarku Warmińskim, sierpień 2023 | E9: F-ra J17/2023 | F9: 774
A10: 5 | B10: F6 | C10: 45156 | D10: wynagrodzenie przewodnika - półkolonie w Lidzbarku Warmińskim, sierpień 2023 | E10: F-ra nr 524 | F10: 500
A11: 6 | B11: F13 | C11: 45159 | D11: transport uczestników półkolonii w Lidzbarku Warmińskim na wycieczki, sierpień 2023 | E11: F-ra nr 07/08/2023 | F11: 1722
A12: 7 | B12: F13 | C12: 45159 | D12: transport uczestników półkolonii w Lidzbarku Warmińskim na wycieczki, sierpień 2023 | E12: F-ra nr 03/08/2023 | F12: 1968
A13: 8 | B13: F12 | C13: 45159 | D13: bilety wstępu - półkolonie w Lidzbarku Warmińskim, sierpień 2023 | E13: F-ra nr 23-FVS/0171 | F13: 880
A14: 9 | B14: F12 | C14: 45159 | D14: bilety wstępu - półkolonie w Lidzbarku Warmińskim, sierpień 2023 | E14: F-ra nr 23-FVS/0172 | F14: 880
A15: 10 | B15: F12 | C15: 45160 | D15: bilety wstępu - półkolonie w Lidzbarku Warmińskim, sierpień 2023 | E15: F-ra nr FV 39/8/2023 | F15: 1260
A16: 11 | B16: F12 | C16: 45163 | D16: bilety wstępu - półkolonie w Lidzbarku Warmińskim, sierpień 2023 | E16: F-ra nr F/0008/08/23/K4 | F16: 950
A17: 12 | B17: F12 | C17: 45163 | D17: bilety wstępu - półkolonie w Lidzbarku Warmińskim, sierpień 2023 | E17: F-ra nr FV/422/2023/K2 | F17: 512
... A41: 36 | B41: F12 | C41: 45198 | D41: bilety wstępu - półkolonie w Lidzbarku Warmińskim, sierpień 2023 | E41: F-ra 23-FVS/0180 | F41: 880
A42: 37
A43: 38
A44: 39
A45: 40
A46: 41
A47: 42
A48: 43
A49: 44
A50: 45
A51: 46
A52: 47
A53: 48
... A505: 500

Sheet G
A1: Kat | D1: Nagłówek | E1: Budżet | F1: =Budżet!C20 -> 1687.76
A2: G | D2: Informacje, publikacje i promocja | E2: Wydano | F2: =SUM(F6:F505) -> 0
A4: L.P | B4: Pozycja w budżecie | C4: Data wydatku | D4: Opis/typ wydatku (pozycja w budżecie) | E4: Rodzaj oraz numer dokumentu źródłowego | F4: kwota (PLN)
A6: 1
A7: 2
A8: 3
A9: 4
A10: 5
A11: 6
A12: 7
A13: 8
A14: 9
A15: 10
A16: 11
A17: 12
... A505: 500

Sheet H
A1: Kat | D1: Nagłówek | E1: Budżet | F1: =Budżet!C21 -> 844.1
A2: H | D2: Inne koszty bezpośrednie | E2: Wydano | F2: =SUM(F6:F505) -> 844.1
A4: L.P | B4: Pozycja w budżecie | C4: Data wydatku | D4: Opis/typ wydatku (pozycja w budżecie) | E4: Rodzaj oraz numer dokumentu źródłowego | F4: kwota (PLN)
A6: 1 | B6: H1 | C6: 45145 | D6: koszt ubezpieczenia uczestników półkolonii w Lidzbarku Warmińskim, sierpień 2023 | E6: POLISA NR 80132261978 | F6: 844.1
A7: 2
A8: 3
A9: 4
A10: 5
A11: 6
A12: 7
A13: 8
A14: 9
A15: 10
A16: 11
A17: 12
A18: 13
... A505: 500

Sheet I
A1: Kat | D1: Nagłówek | E1: Budżet | F1: =Budżet!C22 -> 0
A2: I | D2: Wydatki niestanowiące podstawy wyliczenia kosztów pośrednich | E2: Wydano | F2: =SUM(F6:F505) -> 0
A4: L.P | B4: Pozycja w budżecie | C4: Data wydatku | D4: Opis/typ wydatku (pozycja w budżecie) | E4: Rodzaj oraz numer dokumentu źródłowego | F4: kwota (PLN)
A6: 1
A7: 2
A8: 3
A9: 4
A10: 5
A11: 6
A12: 7
A13: 8
A14: 9
A15: 10
A16: 11
A17: 12
... A505: 500

Sheet J
A1: Kat | B1: Nagłówek
A2: J | B2: Koszty pośrednie
B3: Budżet | C3: =Budżet!C23 -> 250259
B4: Wydano | C4: =SUM(C7:C468) -> 60725.33
A5: L.P | B5: Ewentualny opis | C5: Kwota (PLN)
A7: 1 | B7: koszt pośredni - LIDER | C7: 55725.33
A8: 2 | B8: koszt pośredni - PARTNER | C8: 5000
A9: 3
A10: 4
A11: 5
A12: 6
A13: 7
A14: 8
A15: 9
A16: 10
A17: 11
A18: 12
A19: 13
A20: 14
... A506: 500

Sheet Budżet
A1: Numer umowy: | D1: PL/2022/FAMI/OG.14.7 | G1: Cel szczegółowy lista | H1: Rodzaj partnerstwa
A2: Tytuł Projektu: | D2: Informacja-integracja | G2: Cel szczegółowy nr 1: Azyl | H2: Wydatki, od których liczy się dofinansowanie z budżetu państwa
A3: Cel szczegółowy: | D3: Cel szczegółowy nr 2: Integracja/Legalna migracja | G3: Cel szczegółowy nr 2: Integracja/Legalna migracja | H3: Wydatki, od których nie liczy się dofinansowania z budżetu państwa
A4: Beneficjent: | D4: Wojewoda Warmińsko-Mazurski | G4: Cel szczegółowy nr 3: Powrót
A5: Rodzaj partnerstwa | D5: Wydatki, od których liczy się dofinansowanie z budżetu państwa
A6: Okres sprawozdawczy: | D6: 45108 | E6: 45199
A7: Oświadczenie: Wszystkie przedłożone dokumenty są zgodne z warunkami finansowymi zawartymi w ww. umowie.
A8: % dofinansowania z FAMI | D8: 0.75
A9: % dofinansowania z budżetu państwa | D9: 0.25
C10: budżet | E10: wydatki
A12: Kat | B12: Kategoria wydatków | C12: Kwota (w PLN) | E12: Kwota (w PLN)
B13: 1. Koszty bezpośrednie | C13: 1251295 | E13: =SUM(E14:E22) -> 357434.86
A14: A | B14: Koszty personelu | C14: 708202.54 | E14: =A!F2 -> 204161.77 | G14: =IF(F14>1.1,"increase > 10 %","")
A15: B | B15: Koszty transportu, podróży i utrzymania | C15: 0 | E15: =B!F2 -> 0 | G15: =IF(F15>1.1,"increase > 10 %","")
A16: C | B16: Sprzęt, oprogramowanie i wyposażenie | C16: 186406.47 | E16: ='C'!F2 -> 0 | G16: =IF(F16>1.1,"increase > 10 %","")
A17: D | B17: Nieruchomości (zakup, budowa, remont, najem, usługi ogólne) | C17: 165841.92 | E17: =D!F2 -> 11019.73 | G17: =IF(F17>1.1,"increase > 10 %","")
A18: E | B18: Towary zużywające się i zaopatrzenie, inne wydatki drobne | C18: 37451.21 | E18: =E!F2 -> 16885.15 | G18: =IF(F18>1.1,"increase > 10 %","")
A19: F | B19: Usługi zewnętrzne | C19: 150861 | E19: =F!F2 -> 124524.11 | G19: =IF(F19>1.1,"increase > 10 %","")
A20: G | B20: Informacje, publikacje i promocja | C20: 1687.76 | E20: =G!F2 -> 0 | G20: =IF(F20>1.1,"increase > 10 %","")
A21: H | B21: Inne koszty bezpośrednie | C21: 844.1 | E21: =H!F2 -> 844.1
A22: I | B22: Wydatki niestanowiące podstawy wyliczenia kosztów pośrednich | C22: 0 | E22: =I!F2 -> 0
A23: J | B23: Koszty pośrednie | C23: 250259 | E23: =J!C4 -> 60725.33 | G23: =IF(F23>0.07,"Exceeds 7 %","")
B24: Budżet ogółem (Łączny kwalifikowalny koszt) | C24: 1501554 | E24: =E23+E13 -> 418160.19 | G24: =IF(F24>1.1,"increase > 10 %","")
A26: Kat | B26: Kategoria | C26: Kwota (w PLN) | E26: Kwota (w PLN) | F26: Przeniesione na kolejne okresy sprawozdawcze
A27: L | B27: Wolontariat | C27: 0 | E27: 0
A28: Ł | B28: Przychody | C28: 0 | E28: 0
A29: M | B29: Wkład osób trzecich | C29: 0 | E29: 0
A30: N | B30: Wkład beneficjenta końcowego oraz partnerów projektu | C30: 0 | E30: 0
A31: O | B31: Wkład funduszu | C31: 1126165.5 | E31: =E24*D8 -> 313620.14
A32: P | B32: Dofinansowanie z budżetu państwa | C32: 375388.5 | E32: =E24*D9 -> 104540.05
B33: Spodziewany przychód | C33: 1501554 | E33: =SUM(E28:E32) -> 418160.19 | F33: =SUM(F27:F29) -> 0
B35: Uwaga! Prawidłowy format daty | C35: rrrr-mm-dd
A36: Agnieszka Wilkowska-Klocek (z upoważnienia Wojewody Warmińsko-Mazurskiego) (Imię i nazwisko podpisującego) Dokument podpisany elektronicznie z zastosowaniem: podpisu potwierdzonego profilem zaufanym ePUAP, o którym mowa w rozporządzeniu Parlamentu Europejskiego i Rady (UE) nr 910/2014 z dnia 23 lipca 2014 r. w sprawie identyfikacji elektronicznej i usług zaufania w odniesieniu do transakcji elektronicznych na rynku wewnętrznym oraz uchylającego dyrektywę 1999/93/WE (Dz. Urz. UE L 257 z 28.08.2014, str. 73), mającym skutek prawny równoważny podpisowi własnoręcznemu. Niniejszy dokument został przekazany adresatowi za pośrednictwem: elektronicznej platformy usług administracji publicznej ePUAP lub elektronicznej skrzynki podawczej adresata, o której mowa w Ustawie z dnia 17 lutego 2005 r. o informatyzacji działalności podmiotów realizujących zadania publiczne (Dz.U. 2014 r. poz. 1114 z późn. zm) wskazanej w Biuletynie Informacji Publicznej lub na adres poczty elektronicznej adresata wskazany na stronie internetowej adresata jako adres do kontaktu.

Sheet Instrukcja dla beneficjenta
A1: I. Zakładki dla poszczególnych kategorii wydatków (A-I):
A2: 1. Należy wypełnić kolumny od B do F.
A3: Kolumna B: należy wpisać pozycję z budżetu projektu np. A1, B2, C3 itp.
A4: Kolumna C: należy wpisać dzień poniesienia wydatku a więc wypłaty z kasy lub konta beneficjenta/partnera, przy czym:
A5: - w przypadku wynagrodzeń gdzie poszczególne składowe wynagrodzenia są wypłacane w innym dniu należy je wpisać w oddzielnym wierszu,
A6: - w przypadku wyjazdów służbowych wydatki w zestawieniu ujmuje się dopiero po rozliczeniu, zgodnie z ponizszym przykładem:
A7: a) zaliczka w wysokoście 1000 PLN została wypłacona w dniu 02.01.2015r. Pracownik wydał ostatecznie 1200 PLN. Rozliczenie zaliczki oraz wypłata pozostałej kwoty nastąpiła 21.02.2015r. Ujęcie wydatku w zestawieniu będzie możliwe dopiero najwcześniej 21.02.2015r. Wpisać należy 1000 PLN z datą 02.01.2015r. oraz 200 PLN z datą 21.02.2015.
A8: b) przykład j.w. ale pracownik wydał jedynie 800 PLN. Ujęcie wydatku w zestawieniu będzie możliwe najwcześniej 21.02.2015r. Wpisać należy 800 PLN z datą 02.01.2015r.
A9: - powyższa zasada dotyczy również wszelkich innych wydatków, na które pracownik otrzymał zaliczkę.
A10: Kolumna D: należy wpisać typ wydatku zgodnie z z budżetem projektu wraz z informacją dodatkową o np.:
A11: - Pani Katarzyna Nowak, prawnik, miesiąc styczeń 2015 roku (A),
A12: - Pani Katarzyna Nowak, Warszawa, udzielanie porad prawnych (B),
... A34: UWAGA: Prawidłowy format daty: rrrr-mm-dd
A47: Maks długość pola Opis wydatku | B47: 512
A48: Maks długość pola Dokument | B48: 100
A49: Maks długość pola Pozycja w budżecie | B49: 15
